DSET SSTfore_96-curr.grads
*
options big_endian
*
UNDEF -999.
*
TITLE real time SST forecast initiated from Jan1996 to present
* Z=1: initial conditions; Z=2: lead 1 month; ....., Z=13: lead 12 month
*
XDEF 112 LINEAR 122.25 1.5
*
YDEF 41 LINEAR -20 1.0
*
ZDEF 13 LINEAR 1 1.
*
TDEF 300 LINEAR Jan1996 1mo
*
VARS 1
SST 13 99 ch01 XXXXX YYYYY
ENDVARS
